BEGIN:VCALENDAR
VERSION:2.0
PRODID:-//Gracechurch Bromsgrove - ECPv6.15.20//NONSGML v1.0//EN
CALSCALE:GREGORIAN
METHOD:PUBLISH
X-ORIGINAL-URL:https://www.gracechurchbromsgrove.org
X-WR-CALDESC:Events for Gracechurch Bromsgrove
REFRESH-INTERVAL;VALUE=DURATION:PT1H
X-Robots-Tag:noindex
X-PUBLISHED-TTL:PT1H
BEGIN:VTIMEZONE
TZID:Europe/London
BEGIN:DAYLIGHT
TZOFFSETFROM:+0000
TZOFFSETTO:+0100
TZNAME:BST
DTSTART:20250330T010000
END:DAYLIGHT
BEGIN:STANDARD
TZOFFSETFROM:+0100
TZOFFSETTO:+0000
TZNAME:GMT
DTSTART:20251026T010000
END:STANDARD
BEGIN:DAYLIGHT
TZOFFSETFROM:+0000
TZOFFSETTO:+0100
TZNAME:BST
DTSTART:20260329T010000
END:DAYLIGHT
BEGIN:STANDARD
TZOFFSETFROM:+0100
TZOFFSETTO:+0000
TZNAME:GMT
DTSTART:20261025T010000
END:STANDARD
BEGIN:DAYLIGHT
TZOFFSETFROM:+0000
TZOFFSETTO:+0100
TZNAME:BST
DTSTART:20270328T010000
END:DAYLIGHT
BEGIN:STANDARD
TZOFFSETFROM:+0100
TZOFFSETTO:+0000
TZNAME:GMT
DTSTART:20271031T010000
END:STANDARD
END:VTIMEZONE
BEGIN:VEVENT
DTSTART;TZID=Europe/London:20260328T140000
DTEND;TZID=Europe/London:20260328T160000
DTSTAMP:20260420T054225
CREATED:20260224T110511Z
LAST-MODIFIED:20260304T113339Z
UID:4920-1774706400-1774713600@www.gracechurchbromsgrove.org
SUMMARY:Easter Event
DESCRIPTION:Tea with the Traitors – Go back in time to the first Easter – a real event\, full of betrayal. Find the characters\, solve the mystery to discover who is telling the truth and who is lying! Can YOU find the traitors? \nFree refreshments and Easter egg hunt. Free crafts and games. \nSuitable for all ages – everyone welcome. This is a free event\, but spaces are limited\, so please book in. bit.ly/GC-Easter26
URL:https://www.gracechurchbromsgrove.org/event/easter-event/
LOCATION:St. Andrew’s Church\, Lyttleton Avenue\, Bromsgrove\, B60 3JP
ATTACH;FMTTYPE=image/jpeg:https://www.gracechurchbromsgrove.org/wp-content/uploads/2026/02/easter-event-logo.jpg
END:VEVENT
BEGIN:VEVENT
DTSTART;TZID=Europe/London:20260404T100000
DTEND;TZID=Europe/London:20260404T140000
DTSTAMP:20260420T054225
CREATED:20260305T102750Z
LAST-MODIFIED:20260305T104919Z
UID:4972-1775296800-1775311200@www.gracechurchbromsgrove.org
SUMMARY:Serving at the Recovery House
DESCRIPTION:Join as as we serve together getting the Recovery House up and running ready for residents. There will be a range of jobs to suit all abilities. Mainly smaller domestic and DIY-style tasks which only require people to offer their time\, basic skills and a willingness to serve. For more information or to get involved email recovery@gracechurchbromsgrove.org
URL:https://www.gracechurchbromsgrove.org/event/serving-at-the-recovery-house-2/
ATTACH;FMTTYPE=image/jpeg:https://www.gracechurchbromsgrove.org/wp-content/uploads/2026/02/Freedom-house-photo.jpg
END:VEVENT
BEGIN:VEVENT
DTSTART;TZID=Europe/London:20260405T160000
DTEND;TZID=Europe/London:20260405T173000
DTSTAMP:20260420T054225
CREATED:20260317T114826Z
LAST-MODIFIED:20260317T114826Z
UID:5044-1775404800-1775410200@www.gracechurchbromsgrove.org
SUMMARY:Easter Sunday Celebration
DESCRIPTION:Join us to celebrate Easter Day! With refreshments available. A great opportunity for family and friends to get together and celebrate Christ is risen!
URL:https://www.gracechurchbromsgrove.org/event/easter-sunday-celebration/
LOCATION:St. Andrew’s Church\, Lyttleton Avenue\, Bromsgrove\, B60 3JP
ATTACH;FMTTYPE=image/png:https://www.gracechurchbromsgrove.org/wp-content/uploads/2026/03/EASTER-SUNDAY26-A5-FLYER-Instagram-Post-45.png
END:VEVENT
BEGIN:VEVENT
DTSTART;TZID=Europe/London:20260411T080000
DTEND;TZID=Europe/London:20260411T110000
DTSTAMP:20260420T054225
CREATED:20260305T103010Z
LAST-MODIFIED:20260305T103010Z
UID:4976-1775894400-1775905200@www.gracechurchbromsgrove.org
SUMMARY:School of Theology
DESCRIPTION:Christian theology for every day Christians.
URL:https://www.gracechurchbromsgrove.org/event/school-of-theology-3/
END:VEVENT
BEGIN:VEVENT
DTSTART;TZID=Europe/London:20260419T130000
DTEND;TZID=Europe/London:20260419T153000
DTSTAMP:20260420T054225
CREATED:20260224T110418Z
LAST-MODIFIED:20260224T110418Z
UID:4924-1776603600-1776612600@www.gracechurchbromsgrove.org
SUMMARY:Community Meal
DESCRIPTION:Join us for our next meal!  Free hot meal and delicious homemade cakes. All welcome\, family friendly. Please feel free to stay for a short meeting after the meal. Please book in. bit.ly/GC-CommunityMeals
URL:https://www.gracechurchbromsgrove.org/event/community-meal/
LOCATION:St. Andrew’s Church\, Lyttleton Avenue\, Bromsgrove\, B60 3JP
END:VEVENT
BEGIN:VEVENT
DTSTART;TZID=Europe/London:20260523T080000
DTEND;TZID=Europe/London:20260526T170000
DTSTAMP:20260420T054225
CREATED:20260305T103731Z
LAST-MODIFIED:20260305T103731Z
UID:4978-1779523200-1779814800@www.gracechurchbromsgrove.org
SUMMARY:Catalyst Festival
DESCRIPTION:The festival is a great opportunity for churches who are part of the Catalyst network – in the UK and from across the world – to get together for a times of worship\, building and strengthening friendships\, encouraging one another\, prayer and teaching.  It is also good for Gracechurch to be part of something bigger. Please email admin@gracechurchbromsgrove for more information.
URL:https://www.gracechurchbromsgrove.org/event/catalyst-festival/
LOCATION:Norwich Showground\, NR5 0TT
END:VEVENT
BEGIN:VEVENT
DTSTART;TZID=Europe/London:20260603T080000
DTEND;TZID=Europe/London:20260603T213000
DTSTAMP:20260420T054225
CREATED:20260305T104011Z
LAST-MODIFIED:20260305T104011Z
UID:4981-1780473600-1780522200@www.gracechurchbromsgrove.org
SUMMARY:Family night
DESCRIPTION:Join us for our family night\, a valuable opportunity to gather as a church family. We’ll encourage one another\, share vision and updates\, pray together\, review our finances and create space for questions.
URL:https://www.gracechurchbromsgrove.org/event/family-night-2/
END:VEVENT
BEGIN:VEVENT
DTSTART;TZID=Europe/London:20260606T080000
DTEND;TZID=Europe/London:20260606T110000
DTSTAMP:20260420T054225
CREATED:20260305T104108Z
LAST-MODIFIED:20260305T104108Z
UID:4983-1780732800-1780743600@www.gracechurchbromsgrove.org
SUMMARY:School of Theology
DESCRIPTION:Christian theology for every day Christians.
URL:https://www.gracechurchbromsgrove.org/event/school-of-theology-4/
END:VEVENT
END:VCALENDAR